BEGIN:VCALENDAR
VERSION:2.0
PRODID:-//ChamberMaster//Event Calendar 2.0//EN
METHOD:PUBLISH
X-PUBLISHED-TTL:P3D
REFRESH-INTERVAL:P3D
CALSCALE:GREGORIAN
BEGIN:VEVENT
DTSTART:20170720T000000Z
DTEND:20170720T020000Z
X-MICROSOFT-CDO-ALLDAYEVENT:FALSE
SUMMARY:Songs of Hope Concert
DESCRIPTION:International youth singers with Songs of Hope. Co-sponsored by Pass It On.
X-ALT-DESC;FMTTYPE=text/html:International youth singers with Songs of Hope. Co-sponsored by Pass It On.
LOCATION:First Congregational Church 200 W. Lyon Ave. Lake City
UID:e.621.5746
SEQUENCE:3
DTSTAMP:20260421T220401Z
URL:https://public.lakecity.org/events/details/songs-of-hope-concert-5746
END:VEVENT

END:VCALENDAR
