BEGIN:VCALENDAR
VERSION:2.0
PRODID:-//ChamberMaster//Event Calendar 2.0//EN
METHOD:PUBLISH
X-PUBLISHED-TTL:P3D
REFRESH-INTERVAL:P3D
CALSCALE:GREGORIAN
BEGIN:VEVENT
DTSTART:20151205T160000Z
DTEND:20151205T190000Z
X-MICROSOFT-CDO-ALLDAYEVENT:FALSE
SUMMARY:Soup Lunch and Bake Sale
DESCRIPTION:Soup Lunch and Bake sale
X-ALT-DESC;FMTTYPE=text/html:Soup Lunch and Bake sale
LOCATION:First Congregational Church\, UCC on the corner of West Lyon Ave. and North Oak Street. Elevator on parking lot side of the church.
UID:e.621.4525
SEQUENCE:3
DTSTAMP:20260424T134448Z
URL:https://public.lakecity.org/events/details/soup-lunch-and-bake-sale-12-05-2015-4525
END:VEVENT

END:VCALENDAR
