BEGIN:VCALENDAR
VERSION:2.0
PRODID:-//ChamberMaster//Event Calendar 2.0//EN
METHOD:PUBLISH
X-PUBLISHED-TTL:P3D
REFRESH-INTERVAL:P3D
CALSCALE:GREGORIAN
BEGIN:VEVENT
DTSTART:20160218T233000Z
DTEND:20160219T013000Z
X-MICROSOFT-CDO-ALLDAYEVENT:FALSE
SUMMARY:Souper Suppers at the VFW
DESCRIPTION:Come in and warm up with a hearty bowl of soup for $4. Includes bread!\n\nEnjoy your favorite beverage from the bar all while helping to support your local veterans.
X-ALT-DESC;FMTTYPE=text/html:Come in and warm up with a hearty bowl of soup for $4. Includes bread!<br />\nEnjoy your favorite beverage from the bar all while helping to support your local veterans.
LOCATION:VFW Auxiliary Post 8729
UID:e.621.4751
SEQUENCE:3
DTSTAMP:20260424T120427Z
URL:https://public.lakecity.org/events/details/souper-suppers-at-the-vfw-02-18-2016-4751
END:VEVENT

END:VCALENDAR
