BEGIN:VCALENDAR
VERSION:2.0
PRODID:-//ChamberMaster//Event Calendar 2.0//EN
METHOD:PUBLISH
X-PUBLISHED-TTL:P3D
REFRESH-INTERVAL:P3D
CALSCALE:GREGORIAN
BEGIN:VEVENT
DTSTART:20170403T233000Z
DTEND:20170404T010000Z
X-MICROSOFT-CDO-ALLDAYEVENT:FALSE
SUMMARY:SPARK
DESCRIPTION:Lake City EDA Director Lisa Babington will share information with the Spark women's networking group on Monday\, April 3 at Port 104 in Lake City. Attendees will learn about the child care gap in Lake City\, the proposed ski jump project at Mount Frontenac\, an upcoming career fair\, and a new visitors app. Lisa joined the Lake City EDA in June 2016.
X-ALT-DESC;FMTTYPE=text/html:Lake City EDA Director Lisa Babington will share information with the Spark women&rsquo\;s networking group on Monday\, April 3 at Port 104 in Lake City. Attendees will learn about the child care gap in Lake City\, the proposed ski jump project at Mount Frontenac\, an upcoming career fair\, and a new visitors app. Lisa joined the Lake City EDA in June 2016.
LOCATION:Port 104
UID:e.621.5703
SEQUENCE:3
DTSTAMP:20260422T041158Z
URL:https://public.lakecity.org/events/details/spark-5703
END:VEVENT

END:VCALENDAR
