BEGIN:VCALENDAR
VERSION:2.0
PRODID:-//ChamberMaster//Event Calendar 2.0//EN
METHOD:PUBLISH
X-PUBLISHED-TTL:P3D
REFRESH-INTERVAL:P3D
CALSCALE:GREGORIAN
BEGIN:VEVENT
DTSTART:20170501T233000Z
DTEND:20170502T010000Z
X-MICROSOFT-CDO-ALLDAYEVENT:FALSE
SUMMARY:Spark Networking Group Picnic
DESCRIPTION:Spark will meet at Hok-Si-La park in Lake City for a potluck picnic on Monday\, May 1. The meeting will be held in the large building toward the beach area. There will be a nature hike around the park at 5:45 p.m. for those that want to participate. Then the potluck will begin at 6:30 p.m. Please bring a dish to share and your own beverage. Plates and silverware will be provided. After the supper\, we'll play bingo. Please bring a $1 bingo prize if you'd like to participate.
X-ALT-DESC;FMTTYPE=text/html:Spark will meet at Hok-Si-La park in Lake City for a potluck picnic on Monday\, May 1. The meeting will be held in the large building toward the beach area. There will be a nature hike around the park at 5:45 p.m. for those that want to participate. Then the potluck will begin at 6:30 p.m. Please bring a dish to share and your own beverage. Plates and silverware will be provided. After the supper\, we&rsquo\;ll play bingo. Please bring a $1 bingo prize if you&rsquo\;d like to participate.
LOCATION:Hok-Si-La Park in Lake City
UID:e.621.5718
SEQUENCE:3
DTSTAMP:20260422T010545Z
URL:https://public.lakecity.org/events/details/spark-networking-group-picnic-5718
END:VEVENT

END:VCALENDAR
