BEGIN:VCALENDAR
VERSION:2.0
PRODID:-//ChamberMaster//Event Calendar 2.0//EN
METHOD:PUBLISH
X-PUBLISHED-TTL:P3D
REFRESH-INTERVAL:P3D
CALSCALE:GREGORIAN
BEGIN:VEVENT
DTSTART:20150406T233000Z
DTEND:20150407T010000Z
X-MICROSOFT-CDO-ALLDAYEVENT:FALSE
SUMMARY:Spark Women's Networking Group
DESCRIPTION:You are invited to attend a Spring fashion show presented by Corner Closet. Come see the new colors and styles offered by this local store.
X-ALT-DESC;FMTTYPE=text/html:You are invited to attend a Spring fashion show presented by Corner Closet. Come see the new colors and styles offered by this local store.
LOCATION:Port 104\, Lake City
UID:e.621.4400
SEQUENCE:3
DTSTAMP:20260425T031702Z
URL:https://public.lakecity.org/events/details/spark-women-s-networking-group-04-06-2015-4400
END:VEVENT

END:VCALENDAR
