BEGIN:VCALENDAR
VERSION:2.0
PRODID:-//ChamberMaster//Event Calendar 2.0//EN
METHOD:PUBLISH
X-PUBLISHED-TTL:P3D
REFRESH-INTERVAL:P3D
CALSCALE:GREGORIAN
BEGIN:VEVENT
DTSTART:20151103T003000Z
DTEND:20151103T020000Z
X-MICROSOFT-CDO-ALLDAYEVENT:FALSE
SUMMARY:Spark Women's Networking Group
DESCRIPTION:Dr. Kaitlin McCarthy will be teaching 8 practical and ingenuous things you need to add into your day to increase your vitality. By adding (or sometimes subtracting) these little things you can make a BIG impact on your health.
X-ALT-DESC;FMTTYPE=text/html:Dr. Kaitlin McCarthy will be teaching 8 practical and ingenuous things you need to add into your day to increase your vitality. By adding (or sometimes subtracting) these little things you can make a BIG impact on your health.
LOCATION:Port 104 - Lake City
UID:e.621.4516
SEQUENCE:3
DTSTAMP:20260424T153241Z
URL:https://public.lakecity.org/events/details/spark-women-s-networking-group-11-02-2015-4516
END:VEVENT

END:VCALENDAR
