BEGIN:VCALENDAR
VERSION:2.0
PRODID:-//ChamberMaster//Event Calendar 2.0//EN
METHOD:PUBLISH
X-PUBLISHED-TTL:P3D
REFRESH-INTERVAL:P3D
CALSCALE:GREGORIAN
BEGIN:VEVENT
DTSTART:20161108T003000Z
DTEND:20161108T020000Z
X-MICROSOFT-CDO-ALLDAYEVENT:FALSE
SUMMARY:Spark Women's Networking Group
DESCRIPTION:Spark women's networking group is an opportunity for women to interact\, form new friendships\, and spark creative ideas. Spark is open to all women in all communities. Chamber membership is not required.\n\n\n\nKari Dietrich and Sharon Anderson will share their passion for beekeeping. Please join us on Monday\, November 7 at Port 104 from 6:30pm to 8:00pm. Kari and Sharon will bring some of their beekeeping equipment and will explain a year in the life of a bee hive. They will present issues of bee health that beekeepers deal with and ways that any gardener can help bees. Guests will be able to sample honey and purchase some to take home if they wish.
X-ALT-DESC;FMTTYPE=text/html:Spark women&#39\;s networking group is an opportunity for women to interact\, form new friendships\, and spark creative ideas. Spark is open to all women in all communities. Chamber membership is not required.<br />\n<br />\nKari Dietrich and Sharon Anderson will share their passion for beekeeping. Please join us on Monday\, November 7 at Port 104 from 6:30pm to 8:00pm. Kari and Sharon will bring some of their beekeeping equipment and will explain a year in the life of a bee hive. They will present issues of bee health that beekeepers deal with and ways that any gardener can help bees. Guests will be able to sample honey and purchase some to take home if they wish.&nbsp\;<br />\n&nbsp\;
LOCATION:Port 104
UID:e.621.5478
SEQUENCE:3
DTSTAMP:20260422T101227Z
URL:https://public.lakecity.org/events/details/spark-women-s-networking-group-5478
END:VEVENT

END:VCALENDAR
