BEGIN:VCALENDAR
VERSION:2.0
PRODID:-//ChamberMaster//Event Calendar 2.0//EN
METHOD:PUBLISH
X-PUBLISHED-TTL:P3D
REFRESH-INTERVAL:P3D
CALSCALE:GREGORIAN
BEGIN:VEVENT
DTSTART:20161206T003000Z
DTEND:20161206T020000Z
X-MICROSOFT-CDO-ALLDAYEVENT:FALSE
SUMMARY:Spark Women's Networking Group
DESCRIPTION:Spark women's networking group is an opportunity for women to interact\, form new friendships\, and spark creative ideas. Spark is open to all women in all communities. Chamber membership is not required.\n\n\n\nDecember 2016 Topic:\n\nLearn how to take your photographs to the next level. Presenter Jeff Bartelt will share tips designed to help anyone take photographs with more impact and visual appeal. Jeff has been a photographer over 25 years. His portfolio includes works ranging from fine art landscapes\, vehicles and aircraft\, product imaging\, portraiture\, and light painting. He also teaches photography and has written a book on sunrise photography techniques. Tips learned can be applied regardless of the camera used and will focus on common photographic scenarios. Spark is open to all women and any community. Chamber membership is not required. Come and "Spark" some new ideas!
X-ALT-DESC;FMTTYPE=text/html:Spark women&#39\;s networking group is an opportunity for women to interact\, form new friendships\, and spark creative ideas. Spark is open to all women in all communities. Chamber membership is not required.<br />\n<br />\nDecember 2016 Topic:<br />\nLearn how to take your photographs to the next level. Presenter Jeff&nbsp\;Bartelt&nbsp\;will share tips designed to help anyone take photographs with more impact and visual appeal. Jeff has been a photographer over 25 years. His portfolio includes works ranging from fine art landscapes\, vehicles and aircraft\, product imaging\, portraiture\, and light painting. He also teaches photography and has written a book on sunrise photography techniques. Tips learned can be applied regardless of the camera used and will focus on common photographic scenarios. Spark is open to all women and any community. Chamber membership is not required. Come and &quot\;Spark&quot\; some new ideas!<br />\n&nbsp\;
LOCATION:Port 104
UID:e.621.5479
SEQUENCE:3
DTSTAMP:20260422T084426Z
URL:https://public.lakecity.org/events/details/spark-women-s-networking-group-5479
END:VEVENT

END:VCALENDAR
