BEGIN:VCALENDAR
VERSION:2.0
PRODID:-//ChamberMaster//Event Calendar 2.0//EN
METHOD:PUBLISH
X-PUBLISHED-TTL:P3D
REFRESH-INTERVAL:P3D
CALSCALE:GREGORIAN
BEGIN:VEVENT
DTSTART:20140107T003000Z
DTEND:20140107T020000Z
X-MICROSOFT-CDO-ALLDAYEVENT:FALSE
SUMMARY:Spark Women's Networking Meeting
DESCRIPTION:Trudi Paulson\, social worker from Lake City Schools\, will raise awareness about Bullying
X-ALT-DESC;FMTTYPE=text/html:Trudi Paulson\, social worker from Lake City Schools\, will raise awareness about Bullying
LOCATION:Port 104\, Washington St\, Lake City\, MN
UID:e.621.3422
SEQUENCE:3
DTSTAMP:20260426T030758Z
URL:https://public.lakecity.org/events/details/spark-women-s-networking-meeting-01-06-2014-3422
END:VEVENT

END:VCALENDAR
