BEGIN:VCALENDAR
VERSION:2.0
PRODID:-//ChamberMaster//Event Calendar 2.0//EN
METHOD:PUBLISH
X-PUBLISHED-TTL:P3D
REFRESH-INTERVAL:P3D
CALSCALE:GREGORIAN
BEGIN:VEVENT
DTSTART:20160202T003000Z
DTEND:20160202T020000Z
X-MICROSOFT-CDO-ALLDAYEVENT:FALSE
SUMMARY:Spark Women's Networking Meeting
DESCRIPTION:Shar Yorde will talk about the Red Cross and what services they offer in our community.
X-ALT-DESC;FMTTYPE=text/html:Shar Yorde will talk about the Red Cross and what services they offer in our community.
LOCATION:Port 104
UID:e.621.4542
SEQUENCE:3
DTSTAMP:20260424T103420Z
URL:https://public.lakecity.org/events/details/spark-women-s-networking-meeting-02-01-2016-4542
END:VEVENT

END:VCALENDAR
