BEGIN:VCALENDAR
VERSION:2.0
PRODID:-//ChamberMaster//Event Calendar 2.0//EN
METHOD:PUBLISH
X-PUBLISHED-TTL:P3D
REFRESH-INTERVAL:P3D
CALSCALE:GREGORIAN
BEGIN:VEVENT
DTSTART:20140204T003000Z
DTEND:20140204T020000Z
X-MICROSOFT-CDO-ALLDAYEVENT:FALSE
SUMMARY:Spark Women's Networking Meeting
DESCRIPTION:Speaker Char Rigelman will discuss basic financial planning tips. Meeting is open to all women. Chamber membership is not required.
X-ALT-DESC;FMTTYPE=text/html:Speaker Char Rigelman will discuss basic financial planning tips. Meeting is open to all women. Chamber membership is not required.
LOCATION:Port 104\, Washington Street\, Lake City\, MN
UID:e.621.3430
SEQUENCE:3
DTSTAMP:20260426T002555Z
URL:https://public.lakecity.org/events/details/spark-women-s-networking-meeting-02-03-2014-3430
END:VEVENT

END:VCALENDAR
