BEGIN:VCALENDAR
VERSION:2.0
PRODID:-//ChamberMaster//Event Calendar 2.0//EN
METHOD:PUBLISH
X-PUBLISHED-TTL:P3D
REFRESH-INTERVAL:P3D
CALSCALE:GREGORIAN
BEGIN:VEVENT
DTSTART:20170207T003000Z
DTEND:20170207T020000Z
X-MICROSOFT-CDO-ALLDAYEVENT:FALSE
SUMMARY:Spark Women's Networking Meeting
DESCRIPTION:The February 6 Spark meeting will feature a panel of local women running direct sales businesses. They will describe what direct selling is and how it works. Learn about compensation plans and gain insight into the time and commitment needed to successfully run an independent business. Product samples will be available for review after the meeting. If you have considered starting your own direct sales business and want to spark more knowledge\, this is a great meeting to attend and ask questions.
X-ALT-DESC;FMTTYPE=text/html:The February 6 Spark meeting will feature a panel of local women running direct sales businesses. They will describe what direct selling is and how it works. Learn about compensation plans and gain insight into the time and commitment needed to successfully run an independent business. Product samples will be available for review after the meeting. If you have considered starting your own direct sales business and want to spark more knowledge\, this is a great meeting to attend and ask questions.
LOCATION:Port 104\, Washington Street\, Lake City
UID:e.621.5650
SEQUENCE:3
DTSTAMP:20260422T055709Z
URL:https://public.lakecity.org/events/details/spark-women-s-networking-meeting-02-06-2017-5650
END:VEVENT

END:VCALENDAR
