BEGIN:VCALENDAR
VERSION:2.0
PRODID:-//ChamberMaster//Event Calendar 2.0//EN
METHOD:PUBLISH
X-PUBLISHED-TTL:P3D
REFRESH-INTERVAL:P3D
CALSCALE:GREGORIAN
BEGIN:VEVENT
DTSTART:20150303T003000Z
DTEND:20150303T020000Z
X-MICROSOFT-CDO-ALLDAYEVENT:FALSE
SUMMARY:Spark Women's Networking Meeting
DESCRIPTION:Kathy Lofberg and Jolene Swanson from Mayo Clinic Health System Lake City will talk about women's health issues.
X-ALT-DESC;FMTTYPE=text/html:Kathy Lofberg and Jolene Swanson from Mayo Clinic Health System Lake City will talk about women&#39\;s health issues.
LOCATION:Port 104 - Washington St.
UID:e.621.4363
SEQUENCE:3
DTSTAMP:20260425T032757Z
URL:https://public.lakecity.org/events/details/spark-women-s-networking-meeting-03-02-2015-4363
END:VEVENT

END:VCALENDAR
