BEGIN:VCALENDAR
VERSION:2.0
PRODID:-//ChamberMaster//Event Calendar 2.0//EN
METHOD:PUBLISH
X-PUBLISHED-TTL:P3D
REFRESH-INTERVAL:P3D
CALSCALE:GREGORIAN
BEGIN:VEVENT
DTSTART:20140304T003000Z
DTEND:20140304T020000Z
X-MICROSOFT-CDO-ALLDAYEVENT:FALSE
SUMMARY:Spark Women's Networking Meeting
DESCRIPTION:Speaker Trudi Paulson\, social worker for Lake City schools\, will speak about bullying. All women are welcome to attend Spark. Chamber membership is not required.
X-ALT-DESC;FMTTYPE=text/html:Speaker Trudi Paulson\, social worker for Lake City schools\, will speak about bullying. All women are welcome to attend Spark. Chamber membership is not required. 
LOCATION:Port 104 - Washington St. - Lake City
UID:e.621.3435
SEQUENCE:3
DTSTAMP:20260425T223134Z
URL:https://public.lakecity.org/events/details/spark-women-s-networking-meeting-03-03-2014-3435
END:VEVENT

END:VCALENDAR
