BEGIN:VCALENDAR
VERSION:2.0
PRODID:-//ChamberMaster//Event Calendar 2.0//EN
METHOD:PUBLISH
X-PUBLISHED-TTL:P3D
REFRESH-INTERVAL:P3D
CALSCALE:GREGORIAN
BEGIN:VEVENT
DTSTART:20170307T003000Z
DTEND:20170307T020000Z
X-MICROSOFT-CDO-ALLDAYEVENT:FALSE
SUMMARY:Spark Women's Networking Meeting
DESCRIPTION:Lake City EDA Director Lisa Babington will share information about child care shortages in Lake City\, her involvement with the United Way Health Panel\, and the proposed ski jump project at Mount Frontenac. Come and meet Lisa and spark some new ideas and knowledge about our community. All women are welcome. Bring a friend! Please be sure to check email the day of the event to be sure there is not an inclement weather cancelation.
X-ALT-DESC;FMTTYPE=text/html:Lake City EDA Director Lisa Babington will share information about child care shortages in Lake City\, her involvement with the United Way Health Panel\, and the proposed ski jump project at Mount Frontenac. Come and meet Lisa and spark some new ideas and knowledge about our community. All women are welcome. Bring a friend! Please be sure to check email the day of the event to be sure there is not an inclement weather cancelation.
LOCATION:Port 104 on Washington Street in Lake City
UID:e.621.5678
SEQUENCE:3
DTSTAMP:20260422T041547Z
URL:https://public.lakecity.org/events/details/spark-women-s-networking-meeting-03-06-2017-5678
END:VEVENT

END:VCALENDAR
