BEGIN:VCALENDAR
VERSION:2.0
PRODID:-//ChamberMaster//Event Calendar 2.0//EN
METHOD:PUBLISH
X-PUBLISHED-TTL:P3D
REFRESH-INTERVAL:P3D
CALSCALE:GREGORIAN
BEGIN:VEVENT
DTSTART:20160308T003000Z
DTEND:20160308T020000Z
X-MICROSOFT-CDO-ALLDAYEVENT:FALSE
SUMMARY:Spark Women's Networking Meeting
DESCRIPTION:Dana Tiedeman established Riverside Suri Alpacas in Lake City in 2006. She will share with the Spark group how she discovered alpacas and became interested in raising them. Dana harvests\, spins\, dyes\, and sells alpaca fiber.
X-ALT-DESC;FMTTYPE=text/html:Dana Tiedeman established Riverside Suri Alpacas in Lake City in 2006. She will share with the Spark group how she discovered alpacas and became interested in raising them. Dana harvests\, spins\, dyes\, and sells alpaca fiber.
LOCATION:Port 104
UID:e.621.4556
SEQUENCE:3
DTSTAMP:20260424T085316Z
URL:https://public.lakecity.org/events/details/spark-women-s-networking-meeting-03-07-2016-4556
END:VEVENT

END:VCALENDAR
