BEGIN:VCALENDAR
VERSION:2.0
PRODID:-//ChamberMaster//Event Calendar 2.0//EN
METHOD:PUBLISH
X-PUBLISHED-TTL:P3D
REFRESH-INTERVAL:P3D
CALSCALE:GREGORIAN
BEGIN:VEVENT
DTSTART:20160404T233000Z
DTEND:20160405T010000Z
X-MICROSOFT-CDO-ALLDAYEVENT:FALSE
SUMMARY:Spark Women's Networking Meeting
DESCRIPTION:The April Spark meeting with feature a spring fashion show hosted by Debbie Lane with Corner Closet apparel. Debbie will open Corner Closet after the meeting for those that wish to shop.
X-ALT-DESC;FMTTYPE=text/html:The April Spark meeting with feature a spring fashion show hosted by Debbie Lane with Corner Closet apparel. Debbie will open Corner Closet after the meeting for those that wish to shop.
LOCATION:Port 104
UID:e.621.4786
SEQUENCE:3
DTSTAMP:20260422T195853Z
URL:https://public.lakecity.org/events/details/spark-women-s-networking-meeting-04-04-2016-4786
END:VEVENT

END:VCALENDAR
