BEGIN:VCALENDAR
VERSION:2.0
PRODID:-//ChamberMaster//Event Calendar 2.0//EN
METHOD:PUBLISH
X-PUBLISHED-TTL:P3D
REFRESH-INTERVAL:P3D
CALSCALE:GREGORIAN
BEGIN:VEVENT
DTSTART:20140407T233000Z
DTEND:20140408T010000Z
X-MICROSOFT-CDO-ALLDAYEVENT:FALSE
SUMMARY:Spark Women's Networking Meeting
DESCRIPTION:Come and enjoy a free spring fashion show sponsored by Corner Closet. Lots of great colors and styles to see!\n\nSPARK POSTER
X-ALT-DESC;FMTTYPE=text/html:Come and enjoy a free spring fashion show sponsored by Corner Closet. Lots of great colors and styles to see!<br />\n<a href="http://cloud.chambermaster.com/userfiles/UserFiles/chambers/621/File/Spark-Apr72014notice.ppt">SPARK POSTER</a>
LOCATION:Port 104-Washington Street
UID:e.621.3576
SEQUENCE:3
DTSTAMP:20260425T223141Z
URL:https://public.lakecity.org/events/details/spark-women-s-networking-meeting-04-07-2014-3576
END:VEVENT

END:VCALENDAR
