BEGIN:VCALENDAR
VERSION:2.0
PRODID:-//ChamberMaster//Event Calendar 2.0//EN
METHOD:PUBLISH
X-PUBLISHED-TTL:P3D
REFRESH-INTERVAL:P3D
CALSCALE:GREGORIAN
BEGIN:VEVENT
DTSTART:20150504T233000Z
DTEND:20150505T010000Z
X-MICROSOFT-CDO-ALLDAYEVENT:FALSE
SUMMARY:Spark Women's Networking Meeting
DESCRIPTION:We'll share a potluck meal in the dining hall by the lake. Paper plates\, cups\, and silverware will be provided. Bring a dish to pass and your own beverages. You may drive up to the dining hall if needed. Joanne Klees\, park manager\, will talk about journaling.
X-ALT-DESC;FMTTYPE=text/html:We&#39\;ll share a potluck meal in the dining hall by the lake. Paper plates\, cups\, and silverware will be provided. Bring a dish to pass and your own beverages. You may drive up to the dining hall if needed. Joanne Klees\, park manager\, will talk about journaling.
LOCATION:Hok-Si-La Park in Lake City
UID:e.621.4418
SEQUENCE:3
DTSTAMP:20260425T002545Z
URL:https://public.lakecity.org/events/details/spark-women-s-networking-meeting-05-04-2015-4418
END:VEVENT

END:VCALENDAR
