BEGIN:VCALENDAR
VERSION:2.0
PRODID:-//ChamberMaster//Event Calendar 2.0//EN
METHOD:PUBLISH
X-PUBLISHED-TTL:P3D
REFRESH-INTERVAL:P3D
CALSCALE:GREGORIAN
BEGIN:VEVENT
DTSTART:20140505T233000Z
DTEND:20140506T010000Z
X-MICROSOFT-CDO-ALLDAYEVENT:FALSE
SUMMARY:Spark Women's Networking Meeting
DESCRIPTION:Lindsey Himanga will share her experience of being a teacher in Korea. Learn about the history and culture of Korea and enjoy photos taken by Lindsey during her stay.
X-ALT-DESC;FMTTYPE=text/html:Lindsey Himanga will share her experience of being a teacher in Korea. Learn about the history and culture of Korea and enjoy photos taken by Lindsey during her stay.
LOCATION:Port 104\, Washington Street\, Lake City\, MN
UID:e.621.4000
SEQUENCE:3
DTSTAMP:20260425T210109Z
URL:https://public.lakecity.org/events/details/spark-women-s-networking-meeting-05-05-2014-4000
END:VEVENT

END:VCALENDAR
