BEGIN:VCALENDAR
VERSION:2.0
PRODID:-//ChamberMaster//Event Calendar 2.0//EN
METHOD:PUBLISH
X-PUBLISHED-TTL:P3D
REFRESH-INTERVAL:P3D
CALSCALE:GREGORIAN
BEGIN:VEVENT
DTSTART:20151005T233000Z
DTEND:20151006T010000Z
X-MICROSOFT-CDO-ALLDAYEVENT:FALSE
SUMMARY:Spark Women's Networking Meeting
DESCRIPTION:Spark women's networking group will begin its seventh season with a personal safety presentation by MN State Patrolman Dan Lewis. \n\n \n\nPatrolman Lewis will talk about how to prevent\, prepare for\, and respond to an attack. His experience includes 25 years with Goodhue and Wabasha law enforcement\, 22 years SWAT experience\, and 20 years of teaching firearms and defensive tactics.
X-ALT-DESC;FMTTYPE=text/html:<div><span>Spark women&#39\;s networking group will begin its seventh season with a personal safety presentation by MN State Patrolman Dan Lewis. </span></div>\n\n<div><span>&nbsp\;</span></div>\n\n<div><span>Patrolman Lewis will talk about how to prevent\, prepare for\, and respond to an attack. His experience includes 25 years with Goodhue and Wabasha law enforcement\, 22 years SWAT experience\, and 20 years of teaching firearms and defensive tactics.</span></div>\n
LOCATION:Port 104\, Washington Street\, Lake City
UID:e.621.4493
SEQUENCE:3
DTSTAMP:20260424T165728Z
URL:https://public.lakecity.org/events/details/spark-women-s-networking-meeting-10-05-2015-4493
END:VEVENT

END:VCALENDAR
