BEGIN:VCALENDAR
VERSION:2.0
PRODID:-//ChamberMaster//Event Calendar 2.0//EN
METHOD:PUBLISH
X-PUBLISHED-TTL:P3D
REFRESH-INTERVAL:P3D
CALSCALE:GREGORIAN
BEGIN:VEVENT
DTSTART:20141006T233000Z
DTEND:20141007T010000Z
X-MICROSOFT-CDO-ALLDAYEVENT:FALSE
SUMMARY:Spark Women's Networking Meeting
DESCRIPTION:Heidi Lundgren\, life coach\, will present What's Missing in your Life?
X-ALT-DESC;FMTTYPE=text/html:Heidi Lundgren\, life coach\, will present What&#39\;s Missing in your Life?
LOCATION:Port 104
UID:e.621.4294
SEQUENCE:3
DTSTAMP:20260425T112011Z
URL:https://public.lakecity.org/events/details/spark-women-s-networking-meeting-10-06-2014-4294
END:VEVENT

END:VCALENDAR
