BEGIN:VCALENDAR
VERSION:2.0
PRODID:-//ChamberMaster//Event Calendar 2.0//EN
METHOD:PUBLISH
X-PUBLISHED-TTL:P3D
REFRESH-INTERVAL:P3D
CALSCALE:GREGORIAN
BEGIN:VEVENT
DTSTART:20161108T003000Z
DTEND:20161108T020000Z
X-MICROSOFT-CDO-ALLDAYEVENT:FALSE
SUMMARY:Spark Women's Networking Meeting
DESCRIPTION:Kari Dietrich and Sharon Anderson will share their passion for beekeeping. Kari and Sharon will bring some of their beekeeping equipment and will explain a year in the life of a bee hive. They will present issues of bee health that beekeepers deal with and ways that any gardener can help bees. Guests will be able to sample honey and purchase some to take home if they wish.
X-ALT-DESC;FMTTYPE=text/html:Kari Dietrich and Sharon Anderson will share their passion for beekeeping. Kari and Sharon will bring some of their beekeeping equipment and will explain a year in the life of a bee hive. They will present issues of bee health that beekeepers deal with and ways that any gardener can help bees. Guests will be able to sample honey and purchase some to take home if they wish.
LOCATION:Port 104 on Washington Street
UID:e.621.5475
SEQUENCE:3
DTSTAMP:20260422T102340Z
URL:https://public.lakecity.org/events/details/spark-women-s-networking-meeting-11-07-2016-5475
END:VEVENT

END:VCALENDAR
