BEGIN:VCALENDAR
VERSION:2.0
PRODID:-//ChamberMaster//Event Calendar 2.0//EN
METHOD:PUBLISH
X-PUBLISHED-TTL:P3D
REFRESH-INTERVAL:P3D
CALSCALE:GREGORIAN
BEGIN:VEVENT
DTSTART:20131202T233000Z
DTEND:20131203T020000Z
X-MICROSOFT-CDO-ALLDAYEVENT:FALSE
SUMMARY:Spark Women's Networking Meeting
DESCRIPTION:Women's Holiday Fashion show hosted by Funsway in Lake City.
X-ALT-DESC;FMTTYPE=text/html:Women&#39\;s Holiday Fashion show hosted by Funsway in Lake City. 
LOCATION:Port 104\, Washington Street\, Lake City
UID:e.621.3405
SEQUENCE:3
DTSTAMP:20260426T042838Z
URL:https://public.lakecity.org/events/details/spark-women-s-networking-meeting-12-02-2013-3405
END:VEVENT

END:VCALENDAR
