BEGIN:VCALENDAR
VERSION:2.0
PRODID:-//ChamberMaster//Event Calendar 2.0//EN
METHOD:PUBLISH
X-PUBLISHED-TTL:P3D
REFRESH-INTERVAL:P3D
CALSCALE:GREGORIAN
BEGIN:VEVENT
DTSTART:20151208T003000Z
DTEND:20151208T020000Z
X-MICROSOFT-CDO-ALLDAYEVENT:FALSE
SUMMARY:Spark Women's Networking Meeting
DESCRIPTION:Carolyn Wenzel\, owner of Lake Pepin Floral\, will demonstrate holiday floral arrangements.
X-ALT-DESC;FMTTYPE=text/html:Carolyn Wenzel\, owner of Lake Pepin Floral\, will demonstrate holiday floral arrangements.
LOCATION:Port 104 - Washington St. in Lake City
UID:e.621.4527
SEQUENCE:3
DTSTAMP:20260424T134218Z
URL:https://public.lakecity.org/events/details/spark-women-s-networking-meeting-12-07-2015-4527
END:VEVENT

END:VCALENDAR
