BEGIN:VCALENDAR
VERSION:2.0
PRODID:-//ChamberMaster//Event Calendar 2.0//EN
METHOD:PUBLISH
X-PUBLISHED-TTL:P3D
REFRESH-INTERVAL:P3D
CALSCALE:GREGORIAN
BEGIN:VEVENT
DTSTART:20161003T233000Z
DTEND:20161004T010000Z
X-MICROSOFT-CDO-ALLDAYEVENT:FALSE
SUMMARY:Spark Women's Networking Meeting
DESCRIPTION:As Spark begins its 8th year\, we will learn about making financial decisions. Speaker Jill Minette from Waddell & Reed\, Inc. will present "Mental Roadblocks: How Your Brain Can Keep You from Making Wise Financial Decisions." Mental Roadblocks introduces the five cognitive processes hardwired into our brains that often make financial decisions challenging. Each roadblock is closely examined in creative fashion to help us understand why our brains manipulate the investment planning process   and what can be done about it. This engaging presentation injects humor\, interactive elements\, and financial food for thought. Spark is open to all women in any community and is free of charge. The meeting is held on Monday\, October 3 at Port 104 in Lake City from 6:30pm to 8:00pm. Please bring a friend and come and spark some new ideas.
X-ALT-DESC;FMTTYPE=text/html:As Spark begins its 8th year\, we will learn about making financial decisions. Speaker Jill Minette from Waddell &amp\; Reed\, Inc. will present &ldquo\;Mental Roadblocks: How Your Brain Can Keep You from Making Wise Financial Decisions.&rdquo\; Mental Roadblocks introduces the five cognitive processes hardwired into our brains that often make financial decisions challenging. Each roadblock is closely examined in creative fashion to help us understand why our brains manipulate the investment planning process &ndash\; and what can be done about it. This engaging presentation injects humor\, interactive elements\, and financial food for thought. Spark is open to all women in any community and is free of charge. The meeting is held on Monday\, October 3 at Port 104 in Lake City from 6:30pm to 8:00pm. Please bring a friend and come and spark some new ideas.
LOCATION:Port 104\, Washington Street\, Lake City\, MN
UID:e.621.5448
SEQUENCE:3
DTSTAMP:20260422T115031Z
URL:https://public.lakecity.org/events/details/spark-women-s-networking-meeting-5448
END:VEVENT

END:VCALENDAR
