BEGIN:VCALENDAR
VERSION:2.0
PRODID:-//ChamberMaster//Event Calendar 2.0//EN
METHOD:PUBLISH
X-PUBLISHED-TTL:P3D
REFRESH-INTERVAL:P3D
CALSCALE:GREGORIAN
BEGIN:VEVENT
DTSTART;VALUE=DATE:20140205
DTEND;VALUE=DATE:20140215
TRANSP:TRANSPARENT
X-MICROSOFT-CDO-ALLDAYEVENT:TRUE
SUMMARY:Special Event at AmericInn
DESCRIPTION:President's Day Getaway\n\n\n\nHow about getting away with the kids for President's Day? Stay at the AmericInn of Lake City\, MN and have fun with the kids in our indoor heated pool\, sauna\, and whirpool\, or just relax in our fireplace lobby.\n\n\n\nPackage Includes:\n\nStandard Room(up to 4 adults)\n\nContinental Breakfast with Belgian Waffles\, French Toast\, Yogurts\, and much more.\n\nUpgrade to a Suite for $15.00 more\n\n\n\nWeekday Rate: $72.90\n\n\n\nAvailable February 17 2014 thru February 28 2014
X-ALT-DESC;FMTTYPE=text/html:President&#39\;s Day Getaway<br />\n<br />\nHow about getting away with the kids for President&#39\;s Day? Stay at the AmericInn of Lake City\, MN and have fun with the kids in our indoor heated pool\, sauna\, and whirpool\, or just relax in our fireplace lobby.<br />\n<br />\nPackage Includes:<br />\nStandard Room(up to 4 adults)<br />\nContinental Breakfast with Belgian Waffles\, French Toast\, Yogurts\, and much more.<br />\nUpgrade to a Suite for $15.00 more<br />\n<br />\nWeekday Rate: $72.90<br />\n<br />\nAvailable February 17 2014 thru February 28 2014<br />\n<br type="_moz" />\n
LOCATION:AmericInn Lake City\, MN
UID:e.621.3434
SEQUENCE:3
DTSTAMP:20260426T002524Z
URL:https://public.lakecity.org/events/details/special-event-at-americinn-02-05-2014-3434
END:VEVENT

END:VCALENDAR
