BEGIN:VCALENDAR
VERSION:2.0
PRODID:-//ChamberMaster//Event Calendar 2.0//EN
METHOD:PUBLISH
X-PUBLISHED-TTL:P3D
REFRESH-INTERVAL:P3D
CALSCALE:GREGORIAN
BEGIN:VEVENT
DTSTART:20220803T000000Z
DTEND:20220803T010000Z
X-MICROSOFT-CDO-ALLDAYEVENT:FALSE
SUMMARY:Sportsman's Club Monthly Member Meeting
DESCRIPTION:Sportsman's Club Monthly Member Meeting
X-ALT-DESC;FMTTYPE=text/html:Sportsman's Club Monthly Member Meeting
LOCATION:Sportsman's Club 2200 South Oak Street Lake City\, MN 55041 651-345-2901
UID:e.621.8155
SEQUENCE:3
DTSTAMP:20260423T015234Z
URL:https://public.lakecity.org/events/details/sportsman-s-club-monthly-member-meeting-08-02-2022-8155
END:VEVENT

END:VCALENDAR
