BEGIN:VCALENDAR
VERSION:2.0
PRODID:-//ChamberMaster//Event Calendar 2.0//EN
METHOD:PUBLISH
X-PUBLISHED-TTL:P3D
REFRESH-INTERVAL:P3D
CALSCALE:GREGORIAN
BEGIN:VEVENT
DTSTART:20140405T220000Z
DTEND:20140405T220000Z
X-MICROSOFT-CDO-ALLDAYEVENT:FALSE
SUMMARY:Sportsman's Night Out
DESCRIPTION:Sportsman's Night Out - Social and steak dinner\, raffles\, drawing\, games\, and silent and live auctions sponsored by several of the local sportsman's clubs. Advance dinner tickets required. Call 651-380-7843 for tickets. Social starts at 5:00. Dinner served at 6:15. Proceeds benefit the local sportsman's clubs and the Minnesota Conservation Federation.
X-ALT-DESC;FMTTYPE=text/html:Sportsman&#39\;s Night Out - Social and steak dinner\, raffles\, drawing\, games\, and silent and live auctions sponsored by several of the local sportsman&#39\;s clubs. Advance dinner tickets required. Call 651-380-7843 for tickets. Social starts at 5:00. Dinner served at 6:15. Proceeds benefit the local sportsman&#39\;s clubs and the Minnesota Conservation Federation.
LOCATION:Lake City Sportsman's Club
UID:e.621.3589
SEQUENCE:3
DTSTAMP:20260425T223219Z
URL:https://public.lakecity.org/events/details/sportsman-s-night-out-04-05-2014-3589
END:VEVENT

END:VCALENDAR
