BEGIN:VCALENDAR
VERSION:2.0
PRODID:-//ChamberMaster//Event Calendar 2.0//EN
METHOD:PUBLISH
X-PUBLISHED-TTL:P3D
REFRESH-INTERVAL:P3D
CALSCALE:GREGORIAN
BEGIN:VEVENT
DTSTART:20160416T150000Z
DTEND:20160416T210000Z
X-MICROSOFT-CDO-ALLDAYEVENT:FALSE
SUMMARY:Spring Open House
DESCRIPTION:Browse our many new spring fashions and home and garden d cor. Many new gift lines including candles\, soaps\, and lotions. Sample delicious gourmet foods and sweets! Register for door prizes.
X-ALT-DESC;FMTTYPE=text/html:Browse our many new spring fashions and home and garden d&eacute\;cor. Many new gift lines including candles\, soaps\, and lotions. Sample delicious gourmet foods and sweets! Register for door prizes.
LOCATION:Treats and Treasures 112 S. Washington St. Lake City\, MN
UID:e.621.5225
SEQUENCE:3
DTSTAMP:20260422T195645Z
URL:https://public.lakecity.org/events/details/spring-open-house-04-16-2016-5225
END:VEVENT

END:VCALENDAR
