BEGIN:VCALENDAR
VERSION:2.0
PRODID:-//ChamberMaster//Event Calendar 2.0//EN
METHOD:PUBLISH
X-PUBLISHED-TTL:P3D
REFRESH-INTERVAL:P3D
CALSCALE:GREGORIAN
BEGIN:VEVENT
DTSTART:20170917T140000Z
DTEND:20170917T220000Z
X-MICROSOFT-CDO-ALLDAYEVENT:FALSE
SUMMARY:St Felix School Fall Festival
DESCRIPTION:On Sunday\, September 17\, St. Felix Church & School will be hosting their annual Fall Festival from 9am to 5pm in the St. Felix Auditorium and School Grounds in Wabasha. The day will feature fresh homemade donuts\, grilled chicken dinners\, the farm store\, general and specialty auctions\, bingo\, an inflatable slide\, hoop shoot\, kids games\, tootsie roll booth\, lots of raffles\, tons of prizes and so much more. Join us for food\, fun and friendship. All proceeds go to St. Felix School. For more information call 651-565-4446.
X-ALT-DESC;FMTTYPE=text/html:On Sunday\, September 17\, St. Felix Church &amp\; School will be hosting their annual Fall Festival from 9am to 5pm in the St. Felix Auditorium and School Grounds in Wabasha. The day will feature fresh homemade donuts\, grilled chicken dinners\, the farm store\, general and specialty auctions\, bingo\, an inflatable slide\, hoop shoot\, kids games\, tootsie roll booth\, lots of raffles\, tons of prizes and so much more. Join us for food\, fun and friendship. All proceeds go to St. Felix School. For more information call 651-565-4446.
LOCATION:St Felix School 130 3rd St E Wabasha\, MN 55981
UID:e.621.6772
SEQUENCE:3
DTSTAMP:20260421T183748Z
URL:https://public.lakecity.org/events/details/st-felix-school-fall-festival-6772
END:VEVENT

END:VCALENDAR
