BEGIN:VCALENDAR
VERSION:2.0
PRODID:-//ChamberMaster//Event Calendar 2.0//EN
METHOD:PUBLISH
X-PUBLISHED-TTL:P3D
REFRESH-INTERVAL:P3D
CALSCALE:GREGORIAN
BEGIN:VEVENT
DTSTART:20150913T160000Z
DTEND:20150913T190000Z
X-MICROSOFT-CDO-ALLDAYEVENT:FALSE
SUMMARY:St. Mary's Catholic Church- FALL FESTIVAL
DESCRIPTION:FUN FOR THE WHOLE FAMILY!! Chicken Dinner Served until Gone- dinner includes: Chicken\,Baked Potato\, Baked beans\, Coleslaw\, Bun and Pie. Raffle Silent Auction/Bucket Raffles Farmer's Market Kid's games Bake sale
X-ALT-DESC;FMTTYPE=text/html:FUN FOR THE WHOLE FAMILY!! Chicken Dinner Served until Gone- dinner includes: Chicken\,Baked Potato\, Baked beans\, Coleslaw\, Bun and Pie. Raffle Silent Auction/Bucket Raffles Farmer&#39\;s Market Kid&#39\;s games Bake sale
LOCATION:419 West Lyon Avenue Lake City
UID:e.621.4489
SEQUENCE:3
DTSTAMP:20260424T183458Z
URL:https://public.lakecity.org/events/details/st-mary-s-catholic-church-fall-festival-09-13-2015-4489
END:VEVENT

END:VCALENDAR
