BEGIN:VCALENDAR
VERSION:2.0
PRODID:-//ChamberMaster//Event Calendar 2.0//EN
METHOD:PUBLISH
X-PUBLISHED-TTL:P3D
REFRESH-INTERVAL:P3D
CALSCALE:GREGORIAN
BEGIN:VEVENT
DTSTART:20140907T150000Z
DTEND:20140907T220000Z
X-MICROSOFT-CDO-ALLDAYEVENT:FALSE
SUMMARY:St. Mary's Fall Festival
DESCRIPTION:St. Mary's FALL FESTIVAL\n\nPolka Mass\, BBQ Chicken Dinner\, Ray Sands Trio\, Open House/Tour\, Silent Auction\, Bucket Raffle\, Bake Sale\, Farmers Market\, Games
X-ALT-DESC;FMTTYPE=text/html:St. Mary&#39\;s FALL FESTIVAL<br />\nPolka Mass\, BBQ Chicken Dinner\, Ray Sands Trio\, Open House/Tour\, Silent Auction\, Bucket Raffle\, Bake Sale\, Farmers Market\, Games
LOCATION:419 W. Lyon Ave. Lake City
UID:e.621.4283
SEQUENCE:3
DTSTAMP:20260425T124753Z
URL:https://public.lakecity.org/events/details/st-mary-s-fall-festival-09-07-2014-4283
END:VEVENT

END:VCALENDAR
