BEGIN:VCALENDAR
VERSION:2.0
PRODID:-//ChamberMaster//Event Calendar 2.0//EN
METHOD:PUBLISH
X-PUBLISHED-TTL:P3D
REFRESH-INTERVAL:P3D
CALSCALE:GREGORIAN
BEGIN:VEVENT
DTSTART;VALUE=DATE:20140315
DTEND;VALUE=DATE:20140316
TRANSP:TRANSPARENT
X-MICROSOFT-CDO-ALLDAYEVENT:TRUE
SUMMARY:St. Patrick's Day Party
DESCRIPTION:St. Patrick's Party\n\n9-Pin No-Tap Bowling 7pm Prizes for best-dressed Irish man & woman!\n\nProceeds benefit Lake City area special needs bowling program.\n\nLive Music! 9:30pm - 1:30am Stealin' the Covers
X-ALT-DESC;FMTTYPE=text/html:St. Patrick&#39\;s Party<br />\n9-Pin No-Tap Bowling 7pm Prizes for best-dressed Irish man &amp\; woman!<br />\nProceeds benefit Lake City area special needs bowling program.<br />\nLive Music! 9:30pm - 1:30am Stealin&#39\; the Covers
LOCATION:Port 104 Restaurant & Bar 104 N. Washington St. Lake City
UID:e.621.3575
SEQUENCE:3
DTSTAMP:20260425T223109Z
URL:https://public.lakecity.org/events/details/st-patrick-s-day-party-03-15-2014-3575
END:VEVENT

END:VCALENDAR
