BEGIN:VCALENDAR
VERSION:2.0
PRODID:-//ChamberMaster//Event Calendar 2.0//EN
METHOD:PUBLISH
X-PUBLISHED-TTL:P3D
REFRESH-INTERVAL:P3D
CALSCALE:GREGORIAN
BEGIN:VEVENT
DTSTART;VALUE=DATE:20170130
DTEND;VALUE=DATE:20170131
TRANSP:TRANSPARENT
X-MICROSOFT-CDO-ALLDAYEVENT:TRUE
SUMMARY:Stantec Contract
DESCRIPTION:Click here to read the Stantec contract.
X-ALT-DESC;FMTTYPE=text/html:Click <a href="https://chambermaster.blob.core.windows.net/userfiles/UserFiles/chambers/621/File/LakeCityContractwithStantec2016.pdf">here</a> to read the Stantec&nbsp\;contract.
LOCATION:
UID:e.621.5660
SEQUENCE:3
DTSTAMP:20260422T070713Z
URL:https://public.lakecity.org/events/details/stantec-contract-5660
END:VEVENT

END:VCALENDAR
