BEGIN:VCALENDAR
VERSION:2.0
PRODID:-//ChamberMaster//Event Calendar 2.0//EN
METHOD:PUBLISH
X-PUBLISHED-TTL:P3D
REFRESH-INTERVAL:P3D
CALSCALE:GREGORIAN
BEGIN:VEVENT
DTSTART;VALUE=DATE:20150310
DTEND;VALUE=DATE:20150311
TRANSP:TRANSPARENT
X-MICROSOFT-CDO-ALLDAYEVENT:TRUE
SUMMARY:Start to Finish Oil Painting
DESCRIPTION:Start to Finish oil painting on Tuesdays at the Villa. You can choose morning (9:00 am) or evening (6:00 pm) sessions. The painting this week is Palm Trees. Cost is $50 includes everything. Bob Ross technique is taught by Julie Fjetland\, CRI. Call Julie at 651-345-2311 to register or call the Villa at 651-345-4582.
X-ALT-DESC;FMTTYPE=text/html:Start to Finish oil painting on Tuesdays at the Villa. You can choose morning (9:00 am) or evening (6:00 pm) sessions. The painting this week is Palm Trees. Cost is $50 includes everything. Bob Ross technique is taught by Julie Fjetland\, CRI. Call Julie at 651-345-2311 to register or call the Villa at 651-345-4582.
LOCATION:Villa Maria Retreat and Conference Center\, Frontenac\, MN
UID:e.621.4401
SEQUENCE:3
DTSTAMP:20260425T032937Z
URL:https://public.lakecity.org/events/details/start-to-finish-oil-painting-03-10-2015-4401
END:VEVENT

END:VCALENDAR
