BEGIN:VCALENDAR
VERSION:2.0
PRODID:-//ChamberMaster//Event Calendar 2.0//EN
METHOD:PUBLISH
X-PUBLISHED-TTL:P3D
REFRESH-INTERVAL:P3D
CALSCALE:GREGORIAN
BEGIN:VEVENT
DTSTART:20160319T223000Z
DTEND:20160320T010000Z
X-MICROSOFT-CDO-ALLDAYEVENT:FALSE
SUMMARY:Steak Fry
DESCRIPTION:Steak Fry from 5:30 to 8:00 pm. Meat is from Huettl's meats. Take out is available.
X-ALT-DESC;FMTTYPE=text/html:Steak Fry from 5:30 to 8:00 pm. Meat is from Huettl&#39\;s meats. Take out is available.
LOCATION:224 S. Washington St.\, Lake City\, MN
UID:e.621.4782
SEQUENCE:3
DTSTAMP:20260424T085047Z
URL:https://public.lakecity.org/events/details/steak-fry-03-19-2016-4782
END:VEVENT

END:VCALENDAR
