BEGIN:VCALENDAR
VERSION:2.0
PRODID:-//ChamberMaster//Event Calendar 2.0//EN
METHOD:PUBLISH
X-PUBLISHED-TTL:P3D
REFRESH-INTERVAL:P3D
CALSCALE:GREGORIAN
BEGIN:VEVENT
DTSTART:20161119T233000Z
DTEND:20161119T233000Z
X-MICROSOFT-CDO-ALLDAYEVENT:FALSE
SUMMARY:Steak Fry
DESCRIPTION:Steak Fry
X-ALT-DESC;FMTTYPE=text/html:<font face="Helvetica\, sans-serif"><span style="font-size: 13.3333px\;">Steak Fry</span></font>
LOCATION:American Legion - Club Room Franklin St. Lake City MN
UID:e.621.5497
SEQUENCE:3
DTSTAMP:20260422T101420Z
URL:https://public.lakecity.org/events/details/steak-fry-5497
END:VEVENT

END:VCALENDAR
