BEGIN:VCALENDAR
VERSION:2.0
PRODID:-//ChamberMaster//Event Calendar 2.0//EN
METHOD:PUBLISH
X-PUBLISHED-TTL:P3D
REFRESH-INTERVAL:P3D
CALSCALE:GREGORIAN
BEGIN:VEVENT
DTSTART:20170329T150000Z
DTEND:20170329T200000Z
X-MICROSOFT-CDO-ALLDAYEVENT:FALSE
SUMMARY:STEM + Career Exploration
DESCRIPTION:The S.T.E.M.+ Career Exploration event exposes more than 580 junior and senior high school students in grades 7 through 12 from Lincoln High School to information from area businesses who have S.T.E.M. careers to learn about careers available in S.T.E.M areas and local employer opportunities.\n\n \n\nExhibitors are needed from 10 am until 3 pm. Exhibitor set-up for the event begins at 9 am. Space is limited to the first 25 businesses with S.T.E.M. careers\, so be sure to register soon!
X-ALT-DESC;FMTTYPE=text/html:<span style="font-family:century gothic\,sans-serif\;"><span style="font-size:12.0pt\;">The S.T.E.M.+ Career Exploration event exposes more than 580 junior and senior high school students in grades 7 through 12 from Lincoln High School to information from area businesses who have S.T.E.M. careers to learn about careers available in S.T.E.M areas and local employer opportunities.</span></span><br />\n&nbsp\;<br />\n<span style="font-family:century gothic\,sans-serif\;"><span style="font-size:12.0pt\;">Exhibitors are needed from 10 am until 3 pm. Exhibitor set-up for the event begins at 9 am. Space is limited to the first 25 businesses with S.T.E.M. careers\, so be sure to register soon!</span></span>
LOCATION:Lincoln High School 300 S. Garden St. Lake City MN 55041
UID:e.621.5677
SEQUENCE:3
DTSTAMP:20260422T055231Z
URL:https://public.lakecity.org/events/details/stem-career-exploration-5677
END:VEVENT

END:VCALENDAR
