BEGIN:VCALENDAR
VERSION:2.0
PRODID:-//ChamberMaster//Event Calendar 2.0//EN
METHOD:PUBLISH
X-PUBLISHED-TTL:P3D
REFRESH-INTERVAL:P3D
CALSCALE:GREGORIAN
BEGIN:VEVENT
DTSTART:20170316T223000Z
DTEND:20170316T233000Z
X-MICROSOFT-CDO-ALLDAYEVENT:FALSE
SUMMARY:Stop Fraud Seminar
DESCRIPTION:Chamber Members have an opportunity to learn about financial fraud and ways to prevent it from happening to them. Join us while Bruce Carlstrom from Lake City Federal Bank discusses how to protect you and your business from ID theft\, credit card fraud\, email scams\, phishing\, pharming\, and other topics.
X-ALT-DESC;FMTTYPE=text/html:<span style="color:#000000\;"><span style="font-size:14px\;"><span style="font-family:arial\;">Chamber Members have an opportunity to learn about financial fraud and ways to prevent it from happening to them. Join us while Bruce Carlstrom from Lake City Federal Bank discusses how to protect you and your business from ID theft\, credit card fraud\, email scams\, phishing\, pharming\, and other topics.</span></span></span>
LOCATION:Lake City Chamber of Commerce 101 West Center Street Lake City\, MN 50041
UID:e.621.5685
SEQUENCE:3
DTSTAMP:20260422T041427Z
URL:https://public.lakecity.org/events/details/stop-fraud-seminar-5685
END:VEVENT

END:VCALENDAR
