BEGIN:VCALENDAR
VERSION:2.0
PRODID:-//ChamberMaster//Event Calendar 2.0//EN
METHOD:PUBLISH
X-PUBLISHED-TTL:P3D
REFRESH-INTERVAL:P3D
CALSCALE:GREGORIAN
BEGIN:VEVENT
DTSTART:20150725T230000Z
DTEND:20150726T020000Z
X-MICROSOFT-CDO-ALLDAYEVENT:FALSE
SUMMARY:Summer Festival
DESCRIPTION:Music from Cross to Glory\, bouncy castle\, dunk tank\,face painting\,door prizes\,brats\,burgers\,local sweet corn\,games snow cones and more. FREE EVENT!!!!!
X-ALT-DESC;FMTTYPE=text/html:Music from Cross to Glory\, bouncy castle\, dunk tank\,face painting\,door prizes\,brats\,burgers\,local sweet corn\,games snow cones and more. FREE EVENT!!!!!
LOCATION:Corner of 6th and chestnut. grass lawn behind church
UID:e.621.4470
SEQUENCE:3
DTSTAMP:20260424T213238Z
URL:https://public.lakecity.org/events/details/summer-festival-07-25-2015-4470
END:VEVENT

END:VCALENDAR
