BEGIN:VCALENDAR
VERSION:2.0
PRODID:-//ChamberMaster//Event Calendar 2.0//EN
METHOD:PUBLISH
X-PUBLISHED-TTL:P3D
REFRESH-INTERVAL:P3D
CALSCALE:GREGORIAN
BEGIN:VEVENT
DTSTART:20151126T173000Z
DTEND:20151126T193000Z
X-MICROSOFT-CDO-ALLDAYEVENT:FALSE
SUMMARY:Thanksgiving Community Dinner
DESCRIPTION:Delivery\, Dine In\, Take Out AVAILABLE Please call to RSVP 651-345-2424 by November 20th Rides to and from the meal are available as well! Turkey\, Mashed Potatoes and Gravy\, Salads\, Cranberries\, Stuffing\, Dessert! Coffee\, Milk Meal is sponsored by: Lake City Churches\, Lake City Rotary and Thrivent Financial FREE\, however we will accept free-will donations to benefit the Lake City Food Shelf.
X-ALT-DESC;FMTTYPE=text/html:Delivery\, Dine In\, Take Out AVAILABLE Please call to RSVP 651-345-2424 by November 20th Rides to and from the meal are available as well! Turkey\, Mashed Potatoes and Gravy\, Salads\, Cranberries\, Stuffing\, Dessert! Coffee\, Milk Meal is sponsored by: Lake City Churches\, Lake City Rotary and Thrivent Financial FREE\, however we will accept free-will donations to benefit the Lake City Food Shelf.
LOCATION:Bethany Lutheran Church 525 S 6th St Lake City MN 55041
UID:e.621.4520
SEQUENCE:3
DTSTAMP:20260424T152330Z
URL:https://public.lakecity.org/events/details/thanksgiving-community-dinner-11-26-2015-4520
END:VEVENT

END:VCALENDAR
