BEGIN:VCALENDAR
VERSION:2.0
PRODID:-//ChamberMaster//Event Calendar 2.0//EN
METHOD:PUBLISH
X-PUBLISHED-TTL:P3D
REFRESH-INTERVAL:P3D
CALSCALE:GREGORIAN
BEGIN:VEVENT
DTSTART:20161124T180000Z
DTEND:20161124T193000Z
X-MICROSOFT-CDO-ALLDAYEVENT:FALSE
SUMMARY:Thanksgiving Community Dinner
DESCRIPTION:Turkey\, Mashed potatoes & gravy\, Salads\, Cranberries\, Stuffing\, Dessert\, Coffee\, Milk. Delivery\, Dine in and take out available. Please call 651-345-2424 to RSVP by November 18th. Rides to and from Bethany Lutheran are also available. Meal sponsored by Lake City Churches\, Lake City Rotary and Wabasha County Thrivent Financial.
X-ALT-DESC;FMTTYPE=text/html:Turkey\, Mashed potatoes &amp\; gravy\, Salads\, Cranberries\, Stuffing\, Dessert\, Coffee\, Milk. Delivery\, Dine in and take out available. Please call 651-345-2424 to RSVP by November 18th. Rides to and from Bethany Lutheran are also available. Meal sponsored by Lake City Churches\, Lake City Rotary and Wabasha County Thrivent Financial.
LOCATION:Bethany Lutheran Church 525 South 6th St Lake City MN 55041
UID:e.621.5495
SEQUENCE:3
DTSTAMP:20260422T114913Z
URL:https://public.lakecity.org/events/details/thanksgiving-community-dinner-5495
END:VEVENT

END:VCALENDAR
