BEGIN:VCALENDAR
VERSION:2.0
PRODID:-//ChamberMaster//Event Calendar 2.0//EN
METHOD:PUBLISH
X-PUBLISHED-TTL:P3D
REFRESH-INTERVAL:P3D
CALSCALE:GREGORIAN
BEGIN:VEVENT
DTSTART:20151209T220000Z
DTEND:20151210T000000Z
X-MICROSOFT-CDO-ALLDAYEVENT:FALSE
SUMMARY:The Bluffs of Lake City Holiday Happy Hour
DESCRIPTION:Come for fun\, happy hour treats and refreshments. Network with colleagues\, have a tour\, and take some holiday goodies to go!
X-ALT-DESC;FMTTYPE=text/html:Come for fun\, happy hour treats and refreshments. Network with colleagues\, have a tour\, and take some holiday goodies to go!
LOCATION:The Bluffs of Lake City 480 West Grant Street Lake City\, MN 55041
UID:e.621.4529
SEQUENCE:3
DTSTAMP:20260424T134700Z
URL:https://public.lakecity.org/events/details/the-bluffs-of-lake-city-holiday-happy-hour-12-09-2015-4529
END:VEVENT

END:VCALENDAR
