BEGIN:VCALENDAR
VERSION:2.0
PRODID:-//ChamberMaster//Event Calendar 2.0//EN
METHOD:PUBLISH
X-PUBLISHED-TTL:P3D
REFRESH-INTERVAL:P3D
CALSCALE:GREGORIAN
BEGIN:VEVENT
DTSTART:20151003T183000Z
DTEND:20151003T203000Z
X-MICROSOFT-CDO-ALLDAYEVENT:FALSE
SUMMARY:The Bluffs of Lake City Senior Living Grand Opeining Oct. 3
DESCRIPTION:The $13.4 million Bluffs of Lake City Senior Living will host a Grand Opening celebration at 1:30 p.m.\, Saturday\, Oct. 3\, 2015. The senior living community provides residents with extraordinary views of the area?s scenic bluffs next to Lake Pepin\, the largest lake on the Mississippi River.
X-ALT-DESC;FMTTYPE=text/html:The $13.4 million Bluffs of Lake City Senior Living will host a Grand Opening celebration at 1:30 p.m.\, Saturday\, Oct. 3\, 2015. The senior living community provides residents with extraordinary views of the area?s scenic bluffs next to Lake Pepin\, the largest lake on the Mississippi River.
LOCATION:480 W. Grant St.\, Lake City\, MN
UID:e.621.4497
SEQUENCE:3
DTSTAMP:20260424T170218Z
URL:https://public.lakecity.org/events/details/the-bluffs-of-lake-city-senior-living-grand-opeining-oct-3-10-03-2015-4497
END:VEVENT

END:VCALENDAR
