BEGIN:VCALENDAR
VERSION:2.0
PRODID:-//ChamberMaster//Event Calendar 2.0//EN
METHOD:PUBLISH
X-PUBLISHED-TTL:P3D
REFRESH-INTERVAL:P3D
CALSCALE:GREGORIAN
BEGIN:VEVENT
DTSTART:20151212T010000Z
DTEND:20151220T000000Z
X-MICROSOFT-CDO-ALLDAYEVENT:FALSE
SUMMARY:The Gospel According to Scrooge
DESCRIPTION:The Gospel According to Scrooge\, a musical adaptation of Charles Dicken's "A Christmas Carol" will be performed by Valley View Assembly of God in Lake City December 11\, 12 & 18\, 19.  Get your tickets for $3.00 online at: www.scroogelakecity.com or purchase your tickets at the church office by calling or picking them up in person.  The office is open Monday through Friday from 9 a.m.   1 p.m.\n\n\n\n           Due to popular demand and God's leading\, of course\, Valley View A / G church family  will present the Christian adaptation of The Christmas Carol called : "The Gospel According to Scrooge" again this Christmas Season!   With a cast of 40 + children and adults and fresh new sets\, the old English story will once again come to life through spirited acting\, dancing and robust Christmas music.   The Two Act play will be performed by a handful of core people that have been in many of the 17 performances done back in 2001\, 2002 and 2003\, joined by many "newbies"   some of whom have never even seen the play before!  \n\n\n\nThe performances will be held:\n\nFriday December 11th at 7 pm \n\nSaturday December 12th at 6 pm \n\nFriday December 18th at 6 pm\n\nSaturday December 19th at 7 pm \n\n Everyone is invited to come be a part of Ebenezer Scrooge's journey to find the true meaning of his existence!  Christmas is a great time of year to focus on what really matters!!  Make this production part of your family's Christmas celebration this year!\n\n\n\nTickets being sold for $3.00 a seat.  Get your tickets online at: www.scroogelakecity.com or purchase your tickets at the church office by calling or picking them up in person.  The office is open Monday through Friday from 9 a.m.   1 p.m. Our phone number is:  651-345-3432.  Valley View Assembly of God church is located across from the Lake City Mayo Medical Complex at 305 W. Grant Street in Lake City\, MN.  \n\n\n\nMerry Christmas\, friends and neighbors! In the words of Tiny Tim: "God Bless Us\, Everyone!!"\n\n\n\nYour friends at Valley View A/ G Church
X-ALT-DESC;FMTTYPE=text/html:<span style="font-size:12pt"><span style="font-family:times new roman\,serif">The Gospel According to Scrooge\, a musical adaptation of Charles Dicken&rsquo\;s &ldquo\;A Christmas Carol&rdquo\; will be performed by Valley View Assembly of God in Lake City December 11\, 12 &amp\; 18\, 19.&nbsp\; </span></span><span style="font-size:12pt"><span style="font-family:times new roman\,serif">Get your tickets for $3.00 online at: </span></span><a href="http://scroogelakecity.com/"><strong><span style="font-size:12pt"><span style="font-family:times new roman\,serif"><span style="color:blue">www.scroogelakecity.com</span></span></span></strong></a><span style="font-size:12pt"><span style="font-family:times new roman\,serif"> or purchase your tickets at the church office by calling or picking them up in person.&nbsp\; The office is open Monday through Friday from 9 a.m. &ndash\; 1 p.m.</span></span><br />\n<br />\n<span style="font-size:12pt"><span style="font-family:times new roman\,serif">&nbsp\;&nbsp\;&nbsp\;&nbsp\;&nbsp\;&nbsp\;&nbsp\;&nbsp\;&nbsp\;&nbsp\; Due to popular demand and God&rsquo\;s leading\, of course\, Valley View A / G church family&nbsp\; will present the Christian adaptation of The Christmas Carol called : &ldquo\;The Gospel According to Scrooge&rdquo\; again this Christmas Season! &nbsp\;&nbsp\;With a cast of 40 + children and adults and fresh new sets\, the old English story will once again come to life through spirited acting\, dancing and robust Christmas music.&nbsp\; &nbsp\;The Two Act play will be performed by a handful of core people that have been in many of the 17 performances done back in 2001\, 2002 and 2003\, joined by many &ldquo\;newbies&rdquo\; &ndash\; some of whom have never even seen the play before! &nbsp\;<br />\n<br />\nThe performances will be held:</span></span><br />\n<span style="font-size:12pt"><span style="font-family:times new roman\,serif">Friday December 11<sup>th</sup> at 7 pm </span></span><br />\n<span style="font-size:12pt"><span style="font-family:times new roman\,serif">Saturday December 12<sup>th</sup> at 6 pm </span></span><br />\n<span style="font-size:12pt"><span style="font-family:times new roman\,serif">Friday December 18<sup>th</sup> at 6 pm</span></span><br />\n<span style="font-size:12pt"><span style="font-family:times new roman\,serif">Saturday December 19<sup>th</sup> at 7 pm </span></span><br />\n<span style="font-size:12pt"><span style="font-family:times new roman\,serif">&nbsp\;Everyone is invited to come be a part of Ebenezer Scrooge&rsquo\;s journey to find the true meaning of his existence! &nbsp\;Christmas is a great time of year to focus on what really matters!!&nbsp\; Make this production part of your family&rsquo\;s Christmas celebration this year!<br />\n<br />\nTickets being sold for $3.00 a seat.&nbsp\; <strong>Get your tickets online</strong> at: </span></span><a href="http://scroogelakecity.com/"><strong><span style="font-size:12pt"><span style="font-family:times new roman\,serif"><span style="color:blue">www.scroogelakecity.com</span></span></span></strong></a><span style="font-size:12pt"><span style="font-family:times new roman\,serif"> or purchase your tickets at the church office by calling or picking them up in person.&nbsp\; The office is open Monday through Friday from 9 a.m. &ndash\; 1 p.m. Our phone number is:&nbsp\; <strong>651-345-3432</strong>.&nbsp\; Valley View Assembly of God church is located across from the Lake City Mayo Medical Complex at <strong>305 W. Grant Street in Lake City\, MN</strong>. &nbsp\;<br />\n<br />\nMerry Christmas\, friends and neighbors!&nbsp\;In the words of Tiny Tim: &ldquo\;God Bless Us\, Everyone!!&rdquo\;<br />\n<br />\nYour friends at Valley View A/ G Church</span></span><br />\n&nbsp\;
LOCATION:Valley View Assembly of God
UID:e.621.4519
SEQUENCE:3
DTSTAMP:20260424T134435Z
URL:https://public.lakecity.org/events/details/the-gospel-according-to-scrooge-12-11-2015-4519
END:VEVENT

END:VCALENDAR
