BEGIN:VCALENDAR
VERSION:2.0
PRODID:-//ChamberMaster//Event Calendar 2.0//EN
METHOD:PUBLISH
X-PUBLISHED-TTL:P3D
REFRESH-INTERVAL:P3D
CALSCALE:GREGORIAN
BEGIN:VEVENT
DTSTART:20141012T190000Z
DTEND:20141012T210000Z
X-MICROSOFT-CDO-ALLDAYEVENT:FALSE
SUMMARY:The Lake City Food Shelf presents: The Winona Hims
DESCRIPTION:The Winona Hims are dedicated to the quality singing of gospel\, patriotic\, and other music\, both old and new! The public is encouraged to attend the first concert The Winona Hims have ever performed in Lake City. Refreshments will be served after the concert.
X-ALT-DESC;FMTTYPE=text/html:The Winona Hims are dedicated to the quality singing of gospel\, patriotic\, and other music\, both old and new! The public is encouraged to attend the first concert The Winona Hims have ever performed in Lake City. Refreshments will be served after the concert.
LOCATION:First Lutheran Church\, 100 Peace Ridge\, Lake City\, MN
UID:e.621.4298
SEQUENCE:3
DTSTAMP:20260425T113457Z
URL:https://public.lakecity.org/events/details/the-lake-city-food-shelf-presents-the-winona-hims-10-12-2014-4298
END:VEVENT

END:VCALENDAR
