BEGIN:VCALENDAR
VERSION:2.0
PRODID:-//ChamberMaster//Event Calendar 2.0//EN
METHOD:PUBLISH
X-PUBLISHED-TTL:P3D
REFRESH-INTERVAL:P3D
CALSCALE:GREGORIAN
BEGIN:VEVENT
DTSTART:20170218T160000Z
DTEND:20170218T170000Z
X-MICROSOFT-CDO-ALLDAYEVENT:FALSE
SUMMARY:The Legacy of Laura Ingalls Wilder Documentary
DESCRIPTION:This documentary examines the early life\, marriage\, and writing career of Laura Ingalls Wilder.
X-ALT-DESC;FMTTYPE=text/html:This documentary examines the early life\, marriage\, and writing career of Laura Ingalls Wilder.
LOCATION:Lake City Public Library
UID:e.621.5671
SEQUENCE:3
DTSTAMP:20260422T055829Z
URL:https://public.lakecity.org/events/details/the-legacy-of-laura-ingalls-wilder-documentary-5671
END:VEVENT

END:VCALENDAR
