BEGIN:VCALENDAR
VERSION:2.0
PRODID:-//ChamberMaster//Event Calendar 2.0//EN
METHOD:PUBLISH
X-PUBLISHED-TTL:P3D
REFRESH-INTERVAL:P3D
CALSCALE:GREGORIAN
BEGIN:VEVENT
DTSTART:20180223T000000Z
DTEND:20180223T010000Z
X-MICROSOFT-CDO-ALLDAYEVENT:FALSE
SUMMARY:The Mixed Legacy of Minnesota's Lincoln Republicans During War & Reconstruction
DESCRIPTION:The Goodhue County Historical Society and the City of Red Wing Human Rights Commission present this dynamic presentation featuring William Green. Commemorate Black History with an engaging and thought provoking program on the history of race relations in America. Briefly\, in the wake of the 13th\, 14th\, and 15th amendments\, the advancement of African Americans stalled and soon began to erode against the resurgence of Southern white supremacy. The tragedy is that it occurred on the watch of Lincoln Republicans. Where did they go? This presentation examines whether Minnesota's Lincoln Republicans came to be just as complaisant as their national brethren. To discuss this topic\, William Green will profile four Minnesotans who were prominent at the time\, but not well known today: Morton Wilkinson\, United State senator whose tenure straddled the Civil War and Lincolns presidency\, Thomas Montgomery\, an Irish Protestant immigrant who served in the Colored Regiments\, Sarah Burger Stearns\, who launched the woman's suffrage campaign in Minnesota\, and D.D. Merrill\, who played a critical role in establishing Pilgrim Baptist Church which would become the oldest black congregation in Minnesota. William Green\, Associate Professor of History at Augsburg College and vice president of the Minnesota Historical Society\, will present this fascinating topic. Bill Green received his B.A. in History of Gustavus Adolphus College\, and his M.A.\, Ph.D with J.D. from the University of Minnesota. He has published articles\, op-ed pieces\, and book chapters on history\, law\, and education\, and he has published two books on race and civil rights in Minnesota history   A Peculiar Imbalance in Early Minnesota: 1837   1869\, and Degree of Freedom: The Origins of Civil Rights in Minnesota\, 1865   1914\, which won the Minnesota 2015 Minnesota Book Award-Hognander Prize. He is presently working on a history of Minnesota during the period of the Civil War and Reconstruction\, he will present this research at our evening program.
X-ALT-DESC;FMTTYPE=text/html:The Goodhue County Historical Society and the City of Red Wing Human Rights Commission present this dynamic presentation featuring William Green. Commemorate Black History with an engaging and thought provoking program on the history of race relations in America. Briefly\, in the wake of the 13th\, 14th\, and 15th amendments\, the advancement of African Americans stalled and soon began to erode against the resurgence of Southern white supremacy. The tragedy is that it occurred on the watch of Lincoln Republicans. Where did they go? This presentation examines whether Minnesota&rsquo\;s Lincoln Republicans came to be just as complaisant as their national brethren. To discuss this topic\, William Green will profile four Minnesotans who were prominent at the time\, but not well known today: Morton Wilkinson\, United State senator whose tenure straddled the Civil War and Lincolns presidency\, Thomas Montgomery\, an Irish Protestant immigrant who served in the Colored Regiments\, Sarah Burger Stearns\, who launched the woman&rsquo\;s suffrage campaign in Minnesota\, and D.D. Merrill\, who played a critical role in establishing Pilgrim Baptist Church which would become the oldest black congregation in Minnesota. William Green\, Associate Professor of History at Augsburg College and vice president of the Minnesota Historical Society\, will present this fascinating topic. Bill Green received his B.A. in History of Gustavus Adolphus College\, and his M.A.\, Ph.D with J.D. from the University of Minnesota. He has published articles\, op-ed pieces\, and book chapters on history\, law\, and education\, and he has published two books on race and civil rights in Minnesota history &ndash\; A Peculiar Imbalance in Early Minnesota: 1837 &ndash\; 1869\, and Degree of Freedom: The Origins of Civil Rights in Minnesota\, 1865 &ndash\; 1914\, which won the Minnesota 2015 Minnesota Book Award-Hognander Prize. He is presently working on a history of Minnesota during the period of the Civil War and Reconstruction\, he will present this research at our evening program.
LOCATION:Goodhue County History Center 1166 Oak Street Red Wing\, MN 55066
UID:e.621.6819
SEQUENCE:3
DTSTAMP:20260421T100931Z
URL:https://public.lakecity.org/events/details/the-mixed-legacy-of-minnesota-s-lincoln-republicans-during-war-reconstruction-6819
END:VEVENT

END:VCALENDAR
